BEGIN:VCALENDAR
VERSION:2.0
PRODID:http://cafe-nr5.de
BEGIN:VEVENT
UID:b2fb84c6-3d72-11f1-b997-0242ac11002b-1783011600000-de
DTSTAMP:20260421T111026Z
DTSTART:20260702T170000Z
DTEND:20260702T190000Z
SUMMARY;LANGUAGE=de:Zukunft statt Braunkohle – Was kommt nach dem Tagebau Garzweiler II?
DESCRIPTION;LANGUAGE=de:Mit dem vorzeitigen Ende des Braunkohlenabbaus im Tagebau Garzweiler und den Vorgaben der 5. Leitentscheidung wurde die Änderung des Braunkohlenplans aus dem Jahr 1995 notwendig. Der neue Braunkohlenplan legt die Grundzüge der Oberflächen- gestaltung und Wiedernutzbarmachung fest\, einschließlich der im Rahmen der Rekultivierung angestrebten Landschaftsentwicklung.\nWas sich zunächst nüchtern anhört\, ist von entscheidender Bedeutung. Denn mit dem neuen Plan werden die Weichen für die Zukunft der gesamten Region gestellt. Wie soll der Restsee gestaltet werden? Wie viel Natur lassen wir zu? Wie wird sich der Wasserhaushalt entwickeln? Zu all diesen Fragen soll der Braunkohlenplan Ziele definieren und raumordnerische Festlegungen treffen.\nDer aktuelle Planentwurf des Braunkohlenausschusses stößt auf Kritik. Im Rahmen der Öffentlichkeitsbeteiligung hat der BUND wesentliche Defizite beschrieben\, die eine Überarbeitung des Entwurfs nahelegen. Derzeit werden diese Stellungnahmen durch die Regionalplanungsbehörde abgewogen\, bevor der Braunkohlenausschuss entscheidet und die Landesplanungsbehörde den Plan genehmigt.\nIm RevierDialog #13 stellt der BUND seine zentralen Kritikpunkte vor und bringt sie gemeinsam mit den Teilnehmenden in die Diskussion.\nReferent*in:\nHenning Walther\, BUND-Landesvorstand/Vertreter der Naturschutzverbände im Braunkohlenausschuss\,\nDirk Jansen\, BUND-Landesbeauftragter für das Rheinische Revier\nTermin:\n02.07.2026 von 19.00 Uhr bis 21.00 Uhr\nOrt:\nCafe Nr 5 / Schwalbenhof / Berverath 2 / 41812 Erkelenz-Berverath (alt)\nAnmeldung:\nPer E-Mail an: seminar@nbh.de\, bitte Seminar-Nr.: S-5634 angeben
LOCATION;LANGUAGE=de:Cafe Nr 5\, Berverath 2\, Schwalbenhof\, 41812 Erkelenz - Berverath (alt)
IMAGE;VALUE=URI;DISPLAY=BADGE;FMTTYPE=image/jpeg:http://cafe-nr5.de/export/sites/verbaende/cafe-nr5/.galleries/bilder/Revierdialog-13-20426_1.jpeg
END:VEVENT
END:VCALENDAR
