BEGIN:VCALENDAR
VERSION:2.0
PRODID:http://cafe-nr5.de
BEGIN:VEVENT
UID:6f154931-3d80-11f1-b997-0242ac11002b-1781283600000-de
DTSTAMP:20260421T124845Z
DTSTART:20260612T170000Z
DTEND:20260612T190000Z
SUMMARY;LANGUAGE=de:Was bringt uns die Zukunft im Rheinischen Revier? Zukunftsfonds als Ideenwettbewerb für gemeinwohlorientierte Projekte
LOCATION;LANGUAGE=de:TU! Hambach\, Treffpunkt: ehemalige Kita\, Ellener Straße 26\, 52399 Bürgewald–Merzenich
IMAGE;VALUE=URI;DISPLAY=BADGE;FMTTYPE=image/jpeg:http://cafe-nr5.de/export/sites/verbaende/cafe-nr5/.galleries/bilder/Revierdialog-12-2026_210426.jpg
END:VEVENT
END:VCALENDAR
